BEGIN:VCALENDAR
VERSION:2.0
PRODID:-//Fahrschule Schwarzmann - ECPv5.2.1.1//NONSGML v1.0//EN
CALSCALE:GREGORIAN
METHOD:PUBLISH
X-WR-CALNAME:Fahrschule Schwarzmann
X-ORIGINAL-URL:https://schwarzmann.at
X-WR-CALDESC:Veranstaltungen für Fahrschule Schwarzmann
BEGIN:VTIMEZONE
TZID:Europe/Vienna
BEGIN:DAYLIGHT
TZOFFSETFROM:+0100
TZOFFSETTO:+0200
TZNAME:CEST
DTSTART:20200329T010000
END:DAYLIGHT
BEGIN:STANDARD
TZOFFSETFROM:+0200
TZOFFSETTO:+0100
TZNAME:CET
DTSTART:20201025T010000
END:STANDARD
END:VTIMEZONE
BEGIN:VEVENT
DTSTART;TZID=Europe/Vienna:20200929T101000
DTEND;TZID=Europe/Vienna:20200929T115000
DTSTAMP:20260423T194542
CREATED:20200818T095519Z
LAST-MODIFIED:20201009T133404Z
UID:9855-1601374200-1601380200@schwarzmann.at
SUMMARY:Theoriekurs Modul 12
DESCRIPTION:
URL:https://schwarzmann.at/termin/theoriekurs-modul-12-81/
LOCATION:Fahrschule Schwarzmann\, Dietrichsteinplatz 11\, Graz\, 8010\, Österreich
CATEGORIES:Theoriekurs
END:VEVENT
END:VCALENDAR