BEGIN:VCALENDAR
VERSION:2.0
PRODID:-//Fahrschule Schwarzmann - ECPv5.2.1.1//NONSGML v1.0//EN
CALSCALE:GREGORIAN
METHOD:PUBLISH
X-WR-CALNAME:Fahrschule Schwarzmann
X-ORIGINAL-URL:https://schwarzmann.at
X-WR-CALDESC:Veranstaltungen für Fahrschule Schwarzmann
BEGIN:VTIMEZONE
TZID:Europe/Vienna
BEGIN:DAYLIGHT
TZOFFSETFROM:+0100
TZOFFSETTO:+0200
TZNAME:CEST
DTSTART:20200329T010000
END:DAYLIGHT
BEGIN:STANDARD
TZOFFSETFROM:+0200
TZOFFSETTO:+0100
TZNAME:CET
DTSTART:20201025T010000
END:STANDARD
END:VTIMEZONE
BEGIN:VEVENT
DTSTART;TZID=Europe/Vienna:20201016T140000
DTEND;TZID=Europe/Vienna:20201016T165000
DTSTAMP:20260422T131604
CREATED:20201009T133443Z
LAST-MODIFIED:20201009T133443Z
UID:9979-1602856800-1602867000@schwarzmann.at
SUMMARY:Theoriekurs A Modul 3+4
DESCRIPTION:
URL:https://schwarzmann.at/termin/theoriekurs-a-modul-34-63/
LOCATION:Fahrschule Schwarzmann\, Dietrichsteinplatz 11\, Graz\, 8010\, Österreich
CATEGORIES:Theoriekurs,Theoriekurs A
END:VEVENT
END:VCALENDAR