BEGIN:VCALENDAR
VERSION:2.0
PRODID:-//Fahrschule Schwarzmann - ECPv5.2.1.1//NONSGML v1.0//EN
CALSCALE:GREGORIAN
METHOD:PUBLISH
X-WR-CALNAME:Fahrschule Schwarzmann
X-ORIGINAL-URL:https://schwarzmann.at
X-WR-CALDESC:Veranstaltungen für Fahrschule Schwarzmann
BEGIN:VTIMEZONE
TZID:Europe/Berlin
BEGIN:DAYLIGHT
TZOFFSETFROM:+0100
TZOFFSETTO:+0200
TZNAME:CEST
DTSTART:20180325T010000
END:DAYLIGHT
BEGIN:STANDARD
TZOFFSETFROM:+0200
TZOFFSETTO:+0100
TZNAME:CET
DTSTART:20181028T010000
END:STANDARD
END:VTIMEZONE
BEGIN:VEVENT
DTSTART;TZID=Europe/Berlin:20180423T192000
DTEND;TZID=Europe/Berlin:20180423T201000
DTSTAMP:20260426T045512
CREATED:20180323T123230Z
LAST-MODIFIED:20180323T123230Z
UID:7887-1524511200-1524514200@schwarzmann.at
SUMMARY:Theoretische Begleiterschulung
DESCRIPTION:
URL:https://schwarzmann.at/termin/theoretische-begleiterschulung-6/
LOCATION:Fahrschule Schwarzmann\, Dietrichsteinplatz 11\, Graz\, 8010\, Österreich
END:VEVENT
END:VCALENDAR