BEGIN:VCALENDAR
VERSION:2.0
PRODID:-//Fahrschule Schwarzmann - ECPv5.2.1.1//NONSGML v1.0//EN
CALSCALE:GREGORIAN
METHOD:PUBLISH
X-WR-CALNAME:Fahrschule Schwarzmann
X-ORIGINAL-URL:https://schwarzmann.at
X-WR-CALDESC:Veranstaltungen für Fahrschule Schwarzmann
BEGIN:VTIMEZONE
TZID:Europe/Vienna
BEGIN:DAYLIGHT
TZOFFSETFROM:+0100
TZOFFSETTO:+0200
TZNAME:CEST
DTSTART:20200329T010000
END:DAYLIGHT
BEGIN:STANDARD
TZOFFSETFROM:+0200
TZOFFSETTO:+0100
TZNAME:CET
DTSTART:20201025T010000
END:STANDARD
END:VTIMEZONE
BEGIN:VEVENT
DTSTART;TZID=Europe/Vienna:20200610T154000
DTEND;TZID=Europe/Vienna:20200610T172000
DTSTAMP:20260423T005806
CREATED:20200518T144915Z
LAST-MODIFIED:20200518T144915Z
UID:9673-1591803600-1591809600@schwarzmann.at
SUMMARY:Mopedkurs Modul 7
DESCRIPTION:
URL:https://schwarzmann.at/termin/mopedkurs-modul-7-2/
LOCATION:Fahrschule Schwarzmann\, Dietrichsteinplatz 11\, Graz\, 8010\, Österreich
CATEGORIES:Theoriekurs
END:VEVENT
END:VCALENDAR